BEGIN:VCALENDAR
VERSION:2.0
PRODID:-//Guggenmusik Ziegelhöttler Herisau - ECPv6.15.20//NONSGML v1.0//EN
CALSCALE:GREGORIAN
METHOD:PUBLISH
X-ORIGINAL-URL:https://2023.ziegelhoettler.ch
X-WR-CALDESC:Veranstaltungen für Guggenmusik Ziegelhöttler Herisau
REFRESH-INTERVAL;VALUE=DURATION:PT1H
X-Robots-Tag:noindex
X-PUBLISHED-TTL:PT1H
BEGIN:VTIMEZONE
TZID:Europe/Zurich
BEGIN:DAYLIGHT
TZOFFSETFROM:+0100
TZOFFSETTO:+0200
TZNAME:CEST
DTSTART:20250330T010000
END:DAYLIGHT
BEGIN:STANDARD
TZOFFSETFROM:+0200
TZOFFSETTO:+0100
TZNAME:CET
DTSTART:20251026T010000
END:STANDARD
BEGIN:DAYLIGHT
TZOFFSETFROM:+0100
TZOFFSETTO:+0200
TZNAME:CEST
DTSTART:20260329T010000
END:DAYLIGHT
BEGIN:STANDARD
TZOFFSETFROM:+0200
TZOFFSETTO:+0100
TZNAME:CET
DTSTART:20261025T010000
END:STANDARD
BEGIN:DAYLIGHT
TZOFFSETFROM:+0100
TZOFFSETTO:+0200
TZNAME:CEST
DTSTART:20270328T010000
END:DAYLIGHT
BEGIN:STANDARD
TZOFFSETFROM:+0200
TZOFFSETTO:+0100
TZNAME:CET
DTSTART:20271031T010000
END:STANDARD
END:VTIMEZONE
BEGIN:VEVENT
DTSTART;TZID=Europe/Zurich:20260228T170000
DTEND;TZID=Europe/Zurich:20260228T233000
DTSTAMP:20260423T122210
CREATED:20251215T200237Z
LAST-MODIFIED:20260219T230736Z
UID:3608-1772298000-1772321400@2023.ziegelhoettler.ch
SUMMARY:Cherus-Gälti\, Gelterkinden BL
DESCRIPTION:16:30 Uhr Warem Up\, Bühne 4 Schulgasse | \n18:00 Uhr Guggenparade | \n20:18 Uhr Bühne 1 Dorfplatz | \n22:20 Uhr Bühne 5 altes Gemeindehaus | \n00:30 Uhr Bühne 4 Schulgasse \n 
URL:https://2023.ziegelhoettler.ch/event/cherus-gaelti-gelterkinden-bl-2/
CATEGORIES:Fasnacht 2026
END:VEVENT
BEGIN:VEVENT
DTSTART;TZID=Europe/Zurich:20260228T130000
DTEND;TZID=Europe/Zurich:20260228T150000
DTSTAMP:20260423T122210
CREATED:20251215T200040Z
LAST-MODIFIED:20260219T230959Z
UID:3606-1772283600-1772290800@2023.ziegelhoettler.ch
SUMMARY:Fasnacht Beringen SH
DESCRIPTION:13:00 Uhr Brandplatz | \n13:45 Uhr Puch-Spuntä
URL:https://2023.ziegelhoettler.ch/event/fasnacht-beringen-sh-2/
LOCATION:Beringen\, Oberdorf\, Beringen\, 8222
CATEGORIES:Fasnacht 2026
END:VEVENT
BEGIN:VEVENT
DTSTART;TZID=Europe/Zurich:20260227T210000
DTEND;TZID=Europe/Zurich:20260228T000000
DTSTAMP:20260423T122210
CREATED:20251215T195910Z
LAST-MODIFIED:20260219T225545Z
UID:3604-1772226000-1772236800@2023.ziegelhoettler.ch
SUMMARY:Fasnacht Beringen SH
DESCRIPTION:
URL:https://2023.ziegelhoettler.ch/event/fasnacht-beringen-sh/
LOCATION:Beringen\, Oberdorf\, Beringen\, 8222
CATEGORIES:Fasnacht 2026
END:VEVENT
BEGIN:VEVENT
DTSTART;TZID=Europe/Zurich:20260227T183000
DTEND;TZID=Europe/Zurich:20260227T183000
DTSTAMP:20260423T122210
CREATED:20260219T225410Z
LAST-MODIFIED:20260219T225410Z
UID:3742-1772217000-1772217000@2023.ziegelhoettler.ch
SUMMARY:Platzkonzert Ifang Herisau
DESCRIPTION:
URL:https://2023.ziegelhoettler.ch/event/platzkonzert-ifang-herisau-2/
LOCATION:Schulhaus Ifang\, Ifangstrasse 12\, Herisau\, 9100
CATEGORIES:Fasnacht 2026
END:VEVENT
BEGIN:VEVENT
DTSTART;TZID=Europe/Zurich:20260222T184500
DTEND;TZID=Europe/Zurich:20260222T193000
DTSTAMP:20260423T122210
CREATED:20251111T194020Z
LAST-MODIFIED:20251111T194020Z
UID:3541-1771785900-1771788600@2023.ziegelhoettler.ch
SUMMARY:Gidio Funkenverbrennung\, Herisau
DESCRIPTION:
URL:https://2023.ziegelhoettler.ch/event/gidio-funkenverbrennung-herisau-4/
LOCATION:Ebnet Herisau\, Ebnet 5998\, Herisau\, 9100
CATEGORIES:Fasnacht 2026
END:VEVENT
BEGIN:VEVENT
DTSTART;TZID=Europe/Zurich:20260222T160000
DTEND;TZID=Europe/Zurich:20260222T183000
DTSTAMP:20260423T122210
CREATED:20251215T195609Z
LAST-MODIFIED:20260219T230813Z
UID:3602-1771776000-1771785000@2023.ziegelhoettler.ch
SUMMARY:Funkensonntag Herisau
DESCRIPTION:16:00 Uhr Platzkonzert\, Platz | \n17:17 Uhr Monsterkonzert\, Platz | \nanschliessend Trauermarsch zum Funken auf das Ebnet
URL:https://2023.ziegelhoettler.ch/event/narrenbrunch-herisau/
LOCATION:Chäshalle Herisau (Altes Rathaus)\, Oberdorfstrasse 2a\, Herisau
CATEGORIES:Fasnacht 2026
END:VEVENT
BEGIN:VEVENT
DTSTART;TZID=Europe/Zurich:20260221T191100
DTEND;TZID=Europe/Zurich:20260221T234000
DTSTAMP:20260423T122210
CREATED:20251215T195155Z
LAST-MODIFIED:20260117T111556Z
UID:3598-1771701060-1771717200@2023.ziegelhoettler.ch
SUMMARY:Altstadt Dudlätä\, Winterthur ZH
DESCRIPTION:18:45 Uhr Altstadt\, Corso | \n20:20 Uhr Bühne Neumarkt | \n22:00 Uhr Bühne Spitalgasse | \n23:40 Uhr Bühne Steinbergstrasse
URL:https://2023.ziegelhoettler.ch/event/altstadt-dudlaetae-winterthur-zh/
LOCATION:Winterthur\, Neumarkt\, Winterthur\, 8400
CATEGORIES:Fasnacht 2026
END:VEVENT
BEGIN:VEVENT
DTSTART;TZID=Europe/Zurich:20260221T164500
DTEND;TZID=Europe/Zurich:20260221T164500
DTSTAMP:20260423T122210
CREATED:20251215T194330Z
LAST-MODIFIED:20251215T194330Z
UID:3589-1771692300-1771692300@2023.ziegelhoettler.ch
SUMMARY:Glöggli-Air\, Amriswil TG
DESCRIPTION:
URL:https://2023.ziegelhoettler.ch/event/gloeggli-air-amriswil-tg-2/
LOCATION:Marktplatz Amriswil\, Marktplatz\, Amriswil
CATEGORIES:Fasnacht 2026
END:VEVENT
BEGIN:VEVENT
DTSTART;TZID=Europe/Zurich:20260220T220000
DTEND;TZID=Europe/Zurich:20260220T220000
DTSTAMP:20260423T122210
CREATED:20251215T194932Z
LAST-MODIFIED:20260219T225234Z
UID:3596-1771624800-1771624800@2023.ziegelhoettler.ch
SUMMARY:Beizetätschete\, Herisau
DESCRIPTION:19:00 Uhr Restaurant Freihof | \n19:30 Uhr Quartierverein Ost\, Alterszentrum Heinrichsbad | \n20:30 Uhr Quartierverein Mühle\, Molkerei Forster\, Hölzlistrasse | \n22:00 Uhr Fasnachtsbeiz Chäshalle | \n22:45 Uhr Restaurant Treffpunkt
URL:https://2023.ziegelhoettler.ch/event/platzkonzert-zentrum-herisau/
LOCATION:Platz\, Platz 1\, Herisau\, 9100
CATEGORIES:Fasnacht 2026
END:VEVENT
BEGIN:VEVENT
DTSTART;TZID=Europe/Zurich:20260220T203000
DTEND;TZID=Europe/Zurich:20260220T203000
DTSTAMP:20260423T122210
CREATED:20251215T194820Z
LAST-MODIFIED:20260210T190503Z
UID:3593-1771619400-1771619400@2023.ziegelhoettler.ch
SUMMARY:Platzkonzert Mühle Herisau
DESCRIPTION:
URL:https://2023.ziegelhoettler.ch/event/platzkonzert-muehle-herisau/
LOCATION:Molkerei Forster AG\, Hölzlistrasse 11\, Herisau\, 9100
CATEGORIES:Fasnacht 2026
END:VEVENT
BEGIN:VEVENT
DTSTART;TZID=Europe/Zurich:20260220T193000
DTEND;TZID=Europe/Zurich:20260220T193000
DTSTAMP:20260423T122210
CREATED:20251215T194608Z
LAST-MODIFIED:20251215T194608Z
UID:3591-1771615800-1771615800@2023.ziegelhoettler.ch
SUMMARY:Platzkonzert Herisau Ost
DESCRIPTION:
URL:https://2023.ziegelhoettler.ch/event/platzkonzert-herisau-ost-2/
LOCATION:Alterszentrum Heinrichsbad\, Pétanque-Platz\, Kasernenstrasse 91\, Herisau\, 9100
CATEGORIES:Fasnacht 2026
END:VEVENT
BEGIN:VEVENT
DTSTART;TZID=Europe/Zurich:20260218T190000
DTEND;TZID=Europe/Zurich:20260218T220000
DTSTAMP:20260423T122210
CREATED:20251215T194115Z
LAST-MODIFIED:20260117T110421Z
UID:3586-1771441200-1771452000@2023.ziegelhoettler.ch
SUMMARY:Aschermittwoch Herisau
DESCRIPTION:19:19 Uhr Monsterkonzert\, Platz / Evangelisch-reformierte Kirche |\n20:20 Uhr Beizenfasnacht
URL:https://2023.ziegelhoettler.ch/event/aschermittwoch-herisau-3/
LOCATION:Platz\, Platz 1\, Herisau\, 9100
CATEGORIES:Fasnacht 2026
END:VEVENT
BEGIN:VEVENT
DTSTART;TZID=Europe/Zurich:20260218T150000
DTEND;TZID=Europe/Zurich:20260218T170000
DTSTAMP:20260423T122210
CREATED:20251111T191834Z
LAST-MODIFIED:20251111T191834Z
UID:3524-1771426800-1771434000@2023.ziegelhoettler.ch
SUMMARY:182. Gidio Hosestoss Umzug\, Herisau
DESCRIPTION:15:00 Uhr Kinderumzug und anschliessend Abdankung\, \nca. 16:30 Uhr Kindermaskenball Izi Bizi Tini Wini
URL:https://2023.ziegelhoettler.ch/event/182-gidio-hosestoss-umzug-herisau/
LOCATION:Chälblihalle / Zentrum Herisau\, Herisau\, 9100
CATEGORIES:Fasnacht 2026
ORGANIZER;CN="Leckerlikommission":MAILTO:https://www.herisau.ch/brauchtum/81
END:VEVENT
BEGIN:VEVENT
DTSTART;TZID=Europe/Zurich:20260214T140000
DTEND;TZID=Europe/Zurich:20260214T220000
DTSTAMP:20260423T122210
CREATED:20251215T193838Z
LAST-MODIFIED:20260117T110027Z
UID:3584-1771077600-1771106400@2023.ziegelhoettler.ch
SUMMARY:Gugge-Explosion\, Lörrach (D)
DESCRIPTION:14:20 Uhr Bühne Alter Markt | \n16:40 Uhr Bühne vorderer Chester Platz | \n18:15 Uhr Corso | \n21:20 Uhr Bühne Hebelpark
URL:https://2023.ziegelhoettler.ch/event/gugge-explosion-loerrach-d-5/
CATEGORIES:Fasnacht 2026
END:VEVENT
BEGIN:VEVENT
DTSTART;TZID=Europe/Zurich:20260213T193000
DTEND;TZID=Europe/Zurich:20260213T233000
DTSTAMP:20260423T122210
CREATED:20251215T201310Z
LAST-MODIFIED:20260117T104745Z
UID:3582-1771011000-1771025400@2023.ziegelhoettler.ch
SUMMARY:Open-Air-Guggen-Festival\, Laufenburg (CH/D)
DESCRIPTION:21:10 Uhr Bühne Rathausplatz\, Laufenburg D | \n00:30 Uhr Bühne Marktplatz\, Laufenburg CH
URL:https://2023.ziegelhoettler.ch/event/open-air-guggen-festival-laufenburg-ch-d-2/
LOCATION:Laufenburg\, Laufenburg\, 5080
CATEGORIES:Fasnacht 2026
END:VEVENT
BEGIN:VEVENT
DTSTART;TZID=Europe/Zurich:20260212T141500
DTEND;TZID=Europe/Zurich:20260212T233000
DTSTAMP:20260423T122210
CREATED:20251215T193222Z
LAST-MODIFIED:20260204T145016Z
UID:3580-1770905700-1770939000@2023.ziegelhoettler.ch
SUMMARY:SchmuDo\, Stans NW
DESCRIPTION:
URL:https://2023.ziegelhoettler.ch/event/schmudo-stans-nw-2/
LOCATION:Stans NW\, Dorfplatz\, Stans\, 6370
CATEGORIES:Fasnacht 2026
END:VEVENT
BEGIN:VEVENT
DTSTART;TZID=Europe/Zurich:20260211T183000
DTEND;TZID=Europe/Zurich:20260211T183000
DTSTAMP:20260423T122210
CREATED:20251215T192901Z
LAST-MODIFIED:20251215T203055Z
UID:3578-1770834600-1770834600@2023.ziegelhoettler.ch
SUMMARY:Benefiz Platzkonzert Obvita\, St. Gallen
DESCRIPTION:
URL:https://2023.ziegelhoettler.ch/event/benefiz-platzkonzert-obvita-st-gallen/
LOCATION:Obvita\, Bruggwaldstrasse 45\, St. Gallen\, 9008\, Schweiz
CATEGORIES:Fasnacht 2026
END:VEVENT
BEGIN:VEVENT
DTSTART;TZID=Europe/Zurich:20260207T180000
DTEND;TZID=Europe/Zurich:20260208T010000
DTSTAMP:20260423T122210
CREATED:20251215T192656Z
LAST-MODIFIED:20260204T144713Z
UID:3575-1770487200-1770512400@2023.ziegelhoettler.ch
SUMMARY:dä Chlapf\, Wettingen AG
DESCRIPTION:18:20 Uhr Auftritt Outdoor | \n22:15 Uhr Auftritt Indoor
URL:https://2023.ziegelhoettler.ch/event/dae-chlapf-wettingen-ag/
LOCATION:Schulhaus Margeläcker\, Margelstrasse 8\, Wettingen\, 5430
CATEGORIES:Fasnacht 2026
END:VEVENT
BEGIN:VEVENT
DTSTART;TZID=Europe/Zurich:20260207T154500
DTEND;TZID=Europe/Zurich:20260207T154500
DTSTAMP:20260423T122210
CREATED:20251215T191849Z
LAST-MODIFIED:20251215T191907Z
UID:3573-1770479100-1770479100@2023.ziegelhoettler.ch
SUMMARY:Gönneranlass GM Wirus\, St.Gallen-Winkeln
DESCRIPTION:
URL:https://2023.ziegelhoettler.ch/event/goenneranlass-gm-wirus-st-gallen-winkeln-2/
LOCATION:Dorfplatz\, Dorfplatz\, St.Gallen-Winkeln\, 9015
CATEGORIES:Fasnacht 2026
END:VEVENT
BEGIN:VEVENT
DTSTART;TZID=Europe/Zurich:20260207T143000
DTEND;TZID=Europe/Zurich:20260207T143000
DTSTAMP:20260423T122210
CREATED:20251215T191707Z
LAST-MODIFIED:20251215T191707Z
UID:3571-1770474600-1770474600@2023.ziegelhoettler.ch
SUMMARY:Kindermaskenball\, Herisau
DESCRIPTION:
URL:https://2023.ziegelhoettler.ch/event/kindermaskenball-herisau-2/
LOCATION:Schulhaus Wilen Herisau\, Alpsteinstrasse 9\, Herisau\, 9100
CATEGORIES:Fasnacht 2026
END:VEVENT
BEGIN:VEVENT
DTSTART;TZID=Europe/Zurich:20260207T010000
DTEND;TZID=Europe/Zurich:20260207T010000
DTSTAMP:20260423T122210
CREATED:20251215T191520Z
LAST-MODIFIED:20251215T191520Z
UID:3569-1770426000-1770426000@2023.ziegelhoettler.ch
SUMMARY:Maskenball Untereggen SG
DESCRIPTION:
URL:https://2023.ziegelhoettler.ch/event/maskenball-untereggen-sg/
LOCATION:Mehrzweckhalle Untereggen\, Spielbüelstrasse 9\, Untereggen\, 9033
CATEGORIES:Fasnacht 2026
END:VEVENT
BEGIN:VEVENT
DTSTART;TZID=Europe/Zurich:20260206T214500
DTEND;TZID=Europe/Zurich:20260206T214500
DTSTAMP:20260423T122210
CREATED:20251215T191143Z
LAST-MODIFIED:20251215T191143Z
UID:3567-1770414300-1770414300@2023.ziegelhoettler.ch
SUMMARY:Maskenball Ü30-Gaudiloch\, Güttingen TG
DESCRIPTION:
URL:https://2023.ziegelhoettler.ch/event/maskenball-ue30-gaudiloch-guettingen-tg/
LOCATION:Mehrzweckhalle Rotewis Güttingen\, Rotewisstrasse 1\, Güttingen TG\, 8594
CATEGORIES:Fasnacht 2026
END:VEVENT
BEGIN:VEVENT
DTSTART;TZID=Europe/Zurich:20260201T004500
DTEND;TZID=Europe/Zurich:20260201T004500
DTSTAMP:20260423T122210
CREATED:20251215T190019Z
LAST-MODIFIED:20260117T103956Z
UID:3564-1769906700-1769906700@2023.ziegelhoettler.ch
SUMMARY:Guggaball\, Chur GR
DESCRIPTION:
URL:https://2023.ziegelhoettler.ch/event/guggaball-chur-gr/
LOCATION:Eventhalle Fabrik\, Seilerbahnweg 7\, Chur\, 7000
CATEGORIES:Fasnacht 2026
END:VEVENT
BEGIN:VEVENT
DTSTART;TZID=Europe/Zurich:20260131T220000
DTEND;TZID=Europe/Zurich:20260131T220000
DTSTAMP:20260423T122210
CREATED:20251215T184622Z
LAST-MODIFIED:20251215T184622Z
UID:3561-1769896800-1769896800@2023.ziegelhoettler.ch
SUMMARY:Sauball\, Hittnau ZH
DESCRIPTION:
URL:https://2023.ziegelhoettler.ch/event/sauball-hittnau-zh/
LOCATION:MZTH Hermetsbüel\, Hermetsbüelweg 8A\, Hittnau\, 8335
CATEGORIES:Fasnacht 2026
END:VEVENT
BEGIN:VEVENT
DTSTART;TZID=Europe/Zurich:20260131T172000
DTEND;TZID=Europe/Zurich:20260131T172000
DTSTAMP:20260423T122210
CREATED:20251215T183842Z
LAST-MODIFIED:20251215T200735Z
UID:3557-1769880000-1769880000@2023.ziegelhoettler.ch
SUMMARY:Räbällion\, Thal SG
DESCRIPTION:
URL:https://2023.ziegelhoettler.ch/event/raebaellion-thal-sg-2/
LOCATION:Kirchplatz Thal\, Kirchplatz\, Thal
CATEGORIES:Fasnacht 2026
END:VEVENT
BEGIN:VEVENT
DTSTART;TZID=Europe/Zurich:20260131T160000
DTEND;TZID=Europe/Zurich:20260131T160000
DTSTAMP:20260423T122210
CREATED:20251215T184148Z
LAST-MODIFIED:20260113T185252Z
UID:3559-1769875200-1769875200@2023.ziegelhoettler.ch
SUMMARY:Stägä Guggätä\, St. Gallen-Winkeln
DESCRIPTION:
URL:https://2023.ziegelhoettler.ch/event/staegae-guggaetae-st-gallen-winkeln-2/
LOCATION:Shopping Arena St.Gallen\, St.Gallen\, 9015
CATEGORIES:Fasnacht 2026
END:VEVENT
BEGIN:VEVENT
DTSTART;TZID=Europe/Zurich:20260124T233000
DTEND;TZID=Europe/Zurich:20260124T233000
DTSTAMP:20260423T122210
CREATED:20251215T183615Z
LAST-MODIFIED:20251215T201649Z
UID:3554-1769297400-1769297400@2023.ziegelhoettler.ch
SUMMARY:Reppischfägerball\, Dietikon ZH
DESCRIPTION:
URL:https://2023.ziegelhoettler.ch/event/reppischfaegerball-dietlikon-zh/
LOCATION:Schulhaus Zentral\, Bremgartnerstr. 15\, Dietikon\, 8953
CATEGORIES:Fasnacht 2026
END:VEVENT
BEGIN:VEVENT
DTSTART;TZID=Europe/Zurich:20260124T213000
DTEND;TZID=Europe/Zurich:20260124T213000
DTSTAMP:20260423T122210
CREATED:20260123T155714Z
LAST-MODIFIED:20260123T155950Z
UID:3719-1769290200-1769290200@2023.ziegelhoettler.ch
SUMMARY:Gugge Warm Up\, Wettingen AG
DESCRIPTION:
URL:https://2023.ziegelhoettler.ch/event/gugge-warm-up-wettingen-ag/
LOCATION:Zentrumsplatz\, Wettingen
CATEGORIES:Fasnacht 2026
END:VEVENT
BEGIN:VEVENT
DTSTART;TZID=Europe/Zurich:20260124T180000
DTEND;TZID=Europe/Zurich:20260125T011500
DTSTAMP:20260423T122210
CREATED:20251215T183014Z
LAST-MODIFIED:20260123T155416Z
UID:3551-1769277600-1769303700@2023.ziegelhoettler.ch
SUMMARY:Chübletä\, Mollis GL
DESCRIPTION:18:00 Uhr Auftritt Aussen | \n01:15 Uhr Auftritt Halle
URL:https://2023.ziegelhoettler.ch/event/chuebletae-mollis-gl/
LOCATION:Mehrzweckhalle Mollis\, Vorderdorfstrasse 3\, Mollis\, 8753
CATEGORIES:Fasnacht 2026
END:VEVENT
BEGIN:VEVENT
DTSTART;TZID=Europe/Zurich:20260124T004500
DTEND;TZID=Europe/Zurich:20260124T004500
DTSTAMP:20260423T122210
CREATED:20251215T182653Z
LAST-MODIFIED:20251215T182653Z
UID:3549-1769215500-1769215500@2023.ziegelhoettler.ch
SUMMARY:Guggenfestival Fürstenland\, Gossau SG
DESCRIPTION:
URL:https://2023.ziegelhoettler.ch/event/guggenfestival-fuerstenland-gossau-sg/
LOCATION:BBC butterbarcafe\, Güterschuppen\, Gossau SG\, 9200\, Schweiz
CATEGORIES:Fasnacht 2026
END:VEVENT
END:VCALENDAR